BEGIN:VCALENDAR
VERSION:2.0
PRODID:-//Radomskie Klasyki - ECPv6.15.20//NONSGML v1.0//EN
CALSCALE:GREGORIAN
METHOD:PUBLISH
X-ORIGINAL-URL:https://radomskieklasyki.pl
X-WR-CALDESC:Wydarzenia dla Radomskie Klasyki
REFRESH-INTERVAL;VALUE=DURATION:PT1H
X-Robots-Tag:noindex
X-PUBLISHED-TTL:PT1H
BEGIN:VTIMEZONE
TZID:Europe/Warsaw
BEGIN:DAYLIGHT
TZOFFSETFROM:+0100
TZOFFSETTO:+0200
TZNAME:CEST
DTSTART:20240331T010000
END:DAYLIGHT
BEGIN:STANDARD
TZOFFSETFROM:+0200
TZOFFSETTO:+0100
TZNAME:CET
DTSTART:20241027T010000
END:STANDARD
BEGIN:DAYLIGHT
TZOFFSETFROM:+0100
TZOFFSETTO:+0200
TZNAME:CEST
DTSTART:20250330T010000
END:DAYLIGHT
BEGIN:STANDARD
TZOFFSETFROM:+0200
TZOFFSETTO:+0100
TZNAME:CET
DTSTART:20251026T010000
END:STANDARD
BEGIN:DAYLIGHT
TZOFFSETFROM:+0100
TZOFFSETTO:+0200
TZNAME:CEST
DTSTART:20260329T010000
END:DAYLIGHT
BEGIN:STANDARD
TZOFFSETFROM:+0200
TZOFFSETTO:+0100
TZNAME:CET
DTSTART:20261025T010000
END:STANDARD
END:VTIMEZONE
BEGIN:VEVENT
DTSTART;TZID=Europe/Warsaw:20250615T110000
DTEND;TZID=Europe/Warsaw:20250615T150000
DTSTAMP:20260422T195224
CREATED:20250326T155453Z
LAST-MODIFIED:20250326T155712Z
UID:10000044-1749985200-1749999600@radomskieklasyki.pl
SUMMARY:Wash My Ride 2K25
DESCRIPTION:Zapraszamy na spotkanie podczas którego będziecie mogli dowiedzieć się jak dobrze umyć swój pojazd i jakimi kosmetykami o niego zadbać.  Wspolnie ze sklepem Art Shine oraz producentami kosmetyków samochodowych Auto Shine\, ProElite i CarLab przygotujemy dla Was pokazowe mycie klasyków. \n Data: 15.06.2025 (niedziela) Godzina: 11:00 – 15:00 Miejsce: Art Shine Profesjonalne Kosmetyki Samochodowe\, ul. Barlickiego 6\, 26-600 Radom \n Zasady uczestnictwa znajdziecie tutaj: https://radomskieklasyki.pl/2022/10/03/zasady-uczestnictwa/ Chcecie wspierać spotkania Radomskich Klasyków? https://radomskieklasyki.pl/wsparcie/
URL:https://radomskieklasyki.pl/event/wash-my-ride-2k25/
LOCATION:Art Shine\, Barlickiego 6\, Radom\, mazowieckie\, 26-600\, Poland
ATTACH;FMTTYPE=image/jpeg:https://radomskieklasyki.pl/wp-content/uploads/2025/03/mycie.jpg
END:VEVENT
END:VCALENDAR